BEGIN:VCALENDAR
VERSION:2.0
PRODID:-//Stonehouse Covenant Church - ECPv6.15.20//NONSGML v1.0//EN
CALSCALE:GREGORIAN
METHOD:PUBLISH
X-ORIGINAL-URL:https://stonehousechurch.ca
X-WR-CALDESC:Events for Stonehouse Covenant Church
REFRESH-INTERVAL;VALUE=DURATION:PT1H
X-Robots-Tag:noindex
X-PUBLISHED-TTL:PT1H
BEGIN:VTIMEZONE
TZID:America/Winnipeg
BEGIN:DAYLIGHT
TZOFFSETFROM:-0600
TZOFFSETTO:-0500
TZNAME:CDT
DTSTART:20250309T080000
END:DAYLIGHT
BEGIN:STANDARD
TZOFFSETFROM:-0500
TZOFFSETTO:-0600
TZNAME:CST
DTSTART:20251102T070000
END:STANDARD
BEGIN:DAYLIGHT
TZOFFSETFROM:-0600
TZOFFSETTO:-0500
TZNAME:CDT
DTSTART:20260308T080000
END:DAYLIGHT
BEGIN:STANDARD
TZOFFSETFROM:-0500
TZOFFSETTO:-0600
TZNAME:CST
DTSTART:20261101T070000
END:STANDARD
BEGIN:DAYLIGHT
TZOFFSETFROM:-0600
TZOFFSETTO:-0500
TZNAME:CDT
DTSTART:20270314T080000
END:DAYLIGHT
BEGIN:STANDARD
TZOFFSETFROM:-0500
TZOFFSETTO:-0600
TZNAME:CST
DTSTART:20271107T070000
END:STANDARD
END:VTIMEZONE
BEGIN:VEVENT
DTSTART;TZID=America/Winnipeg:20260104T102000
DTEND;TZID=America/Winnipeg:20260104T113000
DTSTAMP:20260420T054712
CREATED:20251231T163507Z
LAST-MODIFIED:20251231T163507Z
UID:14782-1767522000-1767526200@stonehousechurch.ca
SUMMARY:Stonehouse Worships
DESCRIPTION:
URL:https://stonehousechurch.ca/event/stonehouse-worships-2
LOCATION:Pat Porter Active Living Centre\, 10 Chrysler Gate\, Steinbach\, MB\, R5G 2E6\, Canada
END:VEVENT
BEGIN:VEVENT
DTSTART;TZID=America/Winnipeg:20260107T190000
DTEND;TZID=America/Winnipeg:20260107T203000
DTSTAMP:20260420T054712
CREATED:20251231T171736Z
LAST-MODIFIED:20251231T171736Z
UID:14816-1767812400-1767817800@stonehousechurch.ca
SUMMARY:Stonehouse Youth
DESCRIPTION:
URL:https://stonehousechurch.ca/event/stonehouse-youth-12
LOCATION:Clearspring Middle School\, 1 Brighton Ln\, Steinbach\, mb\, R5G 0Y2\, Canada
END:VEVENT
BEGIN:VEVENT
DTSTART;TZID=America/Winnipeg:20260111T102000
DTEND;TZID=America/Winnipeg:20260111T113000
DTSTAMP:20260420T054712
CREATED:20251231T165548Z
LAST-MODIFIED:20251231T165548Z
UID:14784-1768126800-1768131000@stonehousechurch.ca
SUMMARY:Stonehouse Worships
DESCRIPTION:
URL:https://stonehousechurch.ca/event/stonehouse-worships-5
LOCATION:Pat Porter Active Living Centre\, 10 Chrysler Gate\, Steinbach\, MB\, R5G 2E6\, Canada
END:VEVENT
BEGIN:VEVENT
DTSTART;TZID=America/Winnipeg:20260114T190000
DTEND;TZID=America/Winnipeg:20260114T203000
DTSTAMP:20260420T054712
CREATED:20251231T171812Z
LAST-MODIFIED:20251231T171812Z
UID:14818-1768417200-1768422600@stonehousechurch.ca
SUMMARY:Stonehouse Youth
DESCRIPTION:
URL:https://stonehousechurch.ca/event/stonehouse-youth-13
LOCATION:Clearspring Middle School\, 1 Brighton Ln\, Steinbach\, mb\, R5G 0Y2\, Canada
END:VEVENT
BEGIN:VEVENT
DTSTART;TZID=America/Winnipeg:20260118T102000
DTEND;TZID=America/Winnipeg:20260118T113000
DTSTAMP:20260420T054712
CREATED:20251231T165642Z
LAST-MODIFIED:20251231T165642Z
UID:14786-1768731600-1768735800@stonehousechurch.ca
SUMMARY:Stonehouse Worships
DESCRIPTION:
URL:https://stonehousechurch.ca/event/stonehouse-worships-6
LOCATION:Pat Porter Active Living Centre\, 10 Chrysler Gate\, Steinbach\, MB\, R5G 2E6\, Canada
END:VEVENT
BEGIN:VEVENT
DTSTART;TZID=America/Winnipeg:20260121T190000
DTEND;TZID=America/Winnipeg:20260121T203000
DTSTAMP:20260420T054712
CREATED:20251231T171841Z
LAST-MODIFIED:20251231T171841Z
UID:14820-1769022000-1769027400@stonehousechurch.ca
SUMMARY:Stonehouse Youth
DESCRIPTION:
URL:https://stonehousechurch.ca/event/stonehouse-youth-14
LOCATION:Clearspring Middle School\, 1 Brighton Ln\, Steinbach\, mb\, R5G 0Y2\, Canada
END:VEVENT
BEGIN:VEVENT
DTSTART;TZID=America/Winnipeg:20260125T102000
DTEND;TZID=America/Winnipeg:20260125T113000
DTSTAMP:20260420T054712
CREATED:20251231T165725Z
LAST-MODIFIED:20251231T165725Z
UID:14788-1769336400-1769340600@stonehousechurch.ca
SUMMARY:Stonehouse Worships
DESCRIPTION:
URL:https://stonehousechurch.ca/event/stonehouse-worships-7
LOCATION:Pat Porter Active Living Centre\, 10 Chrysler Gate\, Steinbach\, MB\, R5G 2E6\, Canada
END:VEVENT
BEGIN:VEVENT
DTSTART;TZID=America/Winnipeg:20260128T190000
DTEND;TZID=America/Winnipeg:20260128T203000
DTSTAMP:20260420T054712
CREATED:20251231T171916Z
LAST-MODIFIED:20251231T171916Z
UID:14822-1769626800-1769632200@stonehousechurch.ca
SUMMARY:Stonehouse Youth
DESCRIPTION:
URL:https://stonehousechurch.ca/event/stonehouse-youth-15
LOCATION:Clearspring Middle School\, 1 Brighton Ln\, Steinbach\, mb\, R5G 0Y2\, Canada
END:VEVENT
BEGIN:VEVENT
DTSTART;TZID=America/Winnipeg:20260131T080000
DTEND;TZID=America/Winnipeg:20260131T170000
DTSTAMP:20260420T054712
CREATED:20260131T162305Z
LAST-MODIFIED:20260131T162305Z
UID:14844-1769846400-1769878800@stonehousechurch.ca
SUMMARY:1 Peter Bible study with Dr. David Johnson
DESCRIPTION:Join us for a bible study on 1 Peter. This is part of a 6-week series. When you sign up\, a study guide will be sent to your inbox. \nRoom 113 – (East side of building\, right across the hall from the offices).
URL:https://stonehousechurch.ca/event/1-peter-bible-study-with-dr-david-johnson-5
END:VEVENT
END:VCALENDAR