BEGIN:VCALENDAR
VERSION:2.0
PRODID:-//Stonehouse Covenant Church - ECPv6.15.20//NONSGML v1.0//EN
CALSCALE:GREGORIAN
METHOD:PUBLISH
X-ORIGINAL-URL:https://stonehousechurch.ca
X-WR-CALDESC:Events for Stonehouse Covenant Church
REFRESH-INTERVAL;VALUE=DURATION:PT1H
X-Robots-Tag:noindex
X-PUBLISHED-TTL:PT1H
BEGIN:VTIMEZONE
TZID:America/Winnipeg
BEGIN:DAYLIGHT
TZOFFSETFROM:-0600
TZOFFSETTO:-0500
TZNAME:CDT
DTSTART:20240310T080000
END:DAYLIGHT
BEGIN:STANDARD
TZOFFSETFROM:-0500
TZOFFSETTO:-0600
TZNAME:CST
DTSTART:20241103T070000
END:STANDARD
BEGIN:DAYLIGHT
TZOFFSETFROM:-0600
TZOFFSETTO:-0500
TZNAME:CDT
DTSTART:20250309T080000
END:DAYLIGHT
BEGIN:STANDARD
TZOFFSETFROM:-0500
TZOFFSETTO:-0600
TZNAME:CST
DTSTART:20251102T070000
END:STANDARD
BEGIN:DAYLIGHT
TZOFFSETFROM:-0600
TZOFFSETTO:-0500
TZNAME:CDT
DTSTART:20260308T080000
END:DAYLIGHT
BEGIN:STANDARD
TZOFFSETFROM:-0500
TZOFFSETTO:-0600
TZNAME:CST
DTSTART:20261101T070000
END:STANDARD
END:VTIMEZONE
BEGIN:VEVENT
DTSTART;TZID=America/Winnipeg:20251102T102000
DTEND;TZID=America/Winnipeg:20251102T113000
DTSTAMP:20260420T091757
CREATED:20250821T202344Z
LAST-MODIFIED:20250821T202344Z
UID:14050-1762078800-1762083000@stonehousechurch.ca
SUMMARY:Stonehouse Worships
DESCRIPTION:
URL:https://stonehousechurch.ca/event/stonehouse-worships-13
LOCATION:Pat Porter Active Living Centre\, 10 Chrysler Gate\, Steinbach\, MB\, R5G 2E6\, Canada
ATTACH;FMTTYPE=image/png:https://stonehousechurch.ca/wp-content/uploads/2020/12/stonehouse-circle-e1755805805106.png
END:VEVENT
BEGIN:VEVENT
DTSTART;TZID=America/Winnipeg:20251105T190000
DTEND;TZID=America/Winnipeg:20251105T203000
DTSTAMP:20260420T091757
CREATED:20251002T172847Z
LAST-MODIFIED:20251002T172847Z
UID:14651-1762369200-1762374600@stonehousechurch.ca
SUMMARY:Stonehouse Youth
DESCRIPTION:Grades 6-12
URL:https://stonehousechurch.ca/event/stonehouse-youth-5
LOCATION:Clearspring Middle School\, 1 Brighton Ln\, Steinbach\, mb\, R5G 0Y2\, Canada
END:VEVENT
BEGIN:VEVENT
DTSTART;TZID=America/Winnipeg:20251109T102000
DTEND;TZID=America/Winnipeg:20251109T113000
DTSTAMP:20260420T091757
CREATED:20250821T202546Z
LAST-MODIFIED:20250821T202546Z
UID:14052-1762683600-1762687800@stonehousechurch.ca
SUMMARY:Stonehouse Worships
DESCRIPTION:
URL:https://stonehousechurch.ca/event/stonehouse-worships-14
LOCATION:Pat Porter Active Living Centre\, 10 Chrysler Gate\, Steinbach\, MB\, R5G 2E6\, Canada
ATTACH;FMTTYPE=image/png:https://stonehousechurch.ca/wp-content/uploads/2020/12/stonehouse-circle-e1755805805106.png
END:VEVENT
BEGIN:VEVENT
DTSTART;TZID=America/Winnipeg:20251112T190000
DTEND;TZID=America/Winnipeg:20251112T210000
DTSTAMP:20260420T091757
CREATED:20251002T173036Z
LAST-MODIFIED:20251002T173036Z
UID:14653-1762974000-1762981200@stonehousechurch.ca
SUMMARY:Senior High Youth
DESCRIPTION:Grades 9+
URL:https://stonehousechurch.ca/event/senior-high-youth-2
LOCATION:Clearspring Middle School\, 1 Brighton Ln\, Steinbach\, mb\, R5G 0Y2\, Canada
END:VEVENT
BEGIN:VEVENT
DTSTART;TZID=America/Winnipeg:20251116T102000
DTEND;TZID=America/Winnipeg:20251116T113000
DTSTAMP:20260420T091757
CREATED:20250821T202633Z
LAST-MODIFIED:20250821T202633Z
UID:14054-1763288400-1763292600@stonehousechurch.ca
SUMMARY:Stonehouse Worships
DESCRIPTION:
URL:https://stonehousechurch.ca/event/stonehouse-worships-15
LOCATION:Pat Porter Active Living Centre\, 10 Chrysler Gate\, Steinbach\, MB\, R5G 2E6\, Canada
ATTACH;FMTTYPE=image/png:https://stonehousechurch.ca/wp-content/uploads/2020/12/stonehouse-circle-e1755805805106.png
END:VEVENT
BEGIN:VEVENT
DTSTART;TZID=America/Winnipeg:20251119T190000
DTEND;TZID=America/Winnipeg:20251119T203000
DTSTAMP:20260420T091757
CREATED:20251002T173348Z
LAST-MODIFIED:20251002T173348Z
UID:14655-1763578800-1763584200@stonehousechurch.ca
SUMMARY:Stonehouse Youth
DESCRIPTION:Grades 6-12. Location TBA
URL:https://stonehousechurch.ca/event/stonehouse-youth-6
LOCATION:TBA\, Steinbach\, Canada
END:VEVENT
BEGIN:VEVENT
DTSTART;TZID=America/Winnipeg:20251123T102000
DTEND;TZID=America/Winnipeg:20251123T113000
DTSTAMP:20260420T091757
CREATED:20250821T202735Z
LAST-MODIFIED:20250821T202735Z
UID:14056-1763893200-1763897400@stonehousechurch.ca
SUMMARY:Stonehouse Worships
DESCRIPTION:
URL:https://stonehousechurch.ca/event/stonehouse-worships-16
LOCATION:Pat Porter Active Living Centre\, 10 Chrysler Gate\, Steinbach\, MB\, R5G 2E6\, Canada
ATTACH;FMTTYPE=image/png:https://stonehousechurch.ca/wp-content/uploads/2020/12/stonehouse-circle-e1755805805106.png
END:VEVENT
BEGIN:VEVENT
DTSTART;TZID=America/Winnipeg:20251126T190000
DTEND;TZID=America/Winnipeg:20251126T203000
DTSTAMP:20260420T091757
CREATED:20251002T173600Z
LAST-MODIFIED:20251002T173600Z
UID:14657-1764183600-1764189000@stonehousechurch.ca
SUMMARY:Stonehouse Youth
DESCRIPTION:All students in grades 6-12 welcome
URL:https://stonehousechurch.ca/event/stonehouse-youth-7
LOCATION:Clearspring Middle School\, 1 Brighton Ln\, Steinbach\, mb\, R5G 0Y2\, Canada
END:VEVENT
BEGIN:VEVENT
DTSTART;TZID=America/Winnipeg:20251130T102000
DTEND;TZID=America/Winnipeg:20251130T113000
DTSTAMP:20260420T091757
CREATED:20250821T202821Z
LAST-MODIFIED:20250821T202821Z
UID:14058-1764498000-1764502200@stonehousechurch.ca
SUMMARY:Stonehouse Worships
DESCRIPTION:
URL:https://stonehousechurch.ca/event/stonehouse-worships-17
LOCATION:Pat Porter Active Living Centre\, 10 Chrysler Gate\, Steinbach\, MB\, R5G 2E6\, Canada
ATTACH;FMTTYPE=image/png:https://stonehousechurch.ca/wp-content/uploads/2020/12/stonehouse-circle-e1755805805106.png
END:VEVENT
END:VCALENDAR