BEGIN:VCALENDAR
VERSION:2.0
PRODID:-//Stonehouse Covenant Church - ECPv6.15.20//NONSGML v1.0//EN
CALSCALE:GREGORIAN
METHOD:PUBLISH
X-WR-CALNAME:Stonehouse Covenant Church
X-ORIGINAL-URL:https://stonehousechurch.ca
X-WR-CALDESC:Events for Stonehouse Covenant Church
REFRESH-INTERVAL;VALUE=DURATION:PT1H
X-Robots-Tag:noindex
X-PUBLISHED-TTL:PT1H
BEGIN:VTIMEZONE
TZID:America/Winnipeg
BEGIN:DAYLIGHT
TZOFFSETFROM:-0600
TZOFFSETTO:-0500
TZNAME:CDT
DTSTART:20250309T080000
END:DAYLIGHT
BEGIN:STANDARD
TZOFFSETFROM:-0500
TZOFFSETTO:-0600
TZNAME:CST
DTSTART:20251102T070000
END:STANDARD
BEGIN:DAYLIGHT
TZOFFSETFROM:-0600
TZOFFSETTO:-0500
TZNAME:CDT
DTSTART:20260308T080000
END:DAYLIGHT
BEGIN:STANDARD
TZOFFSETFROM:-0500
TZOFFSETTO:-0600
TZNAME:CST
DTSTART:20261101T070000
END:STANDARD
BEGIN:DAYLIGHT
TZOFFSETFROM:-0600
TZOFFSETTO:-0500
TZNAME:CDT
DTSTART:20270314T080000
END:DAYLIGHT
BEGIN:STANDARD
TZOFFSETFROM:-0500
TZOFFSETTO:-0600
TZNAME:CST
DTSTART:20271107T070000
END:STANDARD
END:VTIMEZONE
BEGIN:VEVENT
DTSTART;TZID=America/Winnipeg:20260201T102000
DTEND;TZID=America/Winnipeg:20260201T113000
DTSTAMP:20260424T034027
CREATED:20251231T165927Z
LAST-MODIFIED:20251231T165927Z
UID:14790-1769941200-1769945400@stonehousechurch.ca
SUMMARY:Stonehouse Worships
DESCRIPTION:
URL:https://stonehousechurch.ca/event/stonehouse-worships-22
LOCATION:Pat Porter Active Living Centre\, 10 Chrysler Gate\, Steinbach\, MB\, R5G 2E6\, Canada
END:VEVENT
BEGIN:VEVENT
DTSTART;TZID=America/Winnipeg:20260203T190000
DTEND;TZID=America/Winnipeg:20260203T203000
DTSTAMP:20260424T034027
CREATED:20260131T160943Z
LAST-MODIFIED:20260131T161339Z
UID:14831-1770145200-1770150600@stonehousechurch.ca
SUMMARY:1 Peter Bible study with Dr. David Johnson
DESCRIPTION:Join us for a bible study on 1 Peter. This will be a 6-week series. When you sign up\, a study guide will be sent to your inbox. \nFeb 3\, 10\, 17\, 24\, Mar 3\, 10\, 7-8:30pm. \nLocation: Crossview Church – Room 113 on Loewen (East side of building\, right across the hall from the offices). \nFeel free to invite friends\, family\, and neighbours!
URL:https://stonehousechurch.ca/event/1-peter-bible-study-with-dr-david-johnson
LOCATION:Crossview Church\, 345 loewen Blvd\, Steinbach\, MB\, Canada
END:VEVENT
BEGIN:VEVENT
DTSTART;TZID=America/Winnipeg:20260204T190000
DTEND;TZID=America/Winnipeg:20260204T203000
DTSTAMP:20260424T034027
CREATED:20251231T172051Z
LAST-MODIFIED:20251231T172051Z
UID:14824-1770231600-1770237000@stonehousechurch.ca
SUMMARY:Stonehouse Youth
DESCRIPTION:
URL:https://stonehousechurch.ca/event/stonehouse-youth-16
LOCATION:Clearspring Middle School\, 1 Brighton Ln\, Steinbach\, mb\, R5G 0Y2\, Canada
END:VEVENT
BEGIN:VEVENT
DTSTART;TZID=America/Winnipeg:20260208T102000
DTEND;TZID=America/Winnipeg:20260208T113000
DTSTAMP:20260424T034027
CREATED:20251231T170007Z
LAST-MODIFIED:20251231T170007Z
UID:14792-1770546000-1770550200@stonehousechurch.ca
SUMMARY:Stonehouse Worships
DESCRIPTION:
URL:https://stonehousechurch.ca/event/stonehouse-worships-23
LOCATION:Pat Porter Active Living Centre\, 10 Chrysler Gate\, Steinbach\, MB\, R5G 2E6\, Canada
END:VEVENT
BEGIN:VEVENT
DTSTART;TZID=America/Winnipeg:20260210T190000
DTEND;TZID=America/Winnipeg:20260210T203000
DTSTAMP:20260424T034027
CREATED:20260131T161647Z
LAST-MODIFIED:20260131T161647Z
UID:14836-1770750000-1770755400@stonehousechurch.ca
SUMMARY:1 Peter Bible study with Dr. David Johnson
DESCRIPTION:Join us for a bible study on 1 Peter. This will be a 6-week series. When you sign up\, a study guide will be sent to your inbox beforehand. \nRoom 113 – East side of building\, right across the hall from the offices.
URL:https://stonehousechurch.ca/event/1-peter-bible-study-with-dr-david-johnson-2
LOCATION:Crossview Church\, 345 loewen Blvd\, Steinbach\, MB\, Canada
END:VEVENT
BEGIN:VEVENT
DTSTART;TZID=America/Winnipeg:20260215T102000
DTEND;TZID=America/Winnipeg:20260215T113000
DTSTAMP:20260424T034027
CREATED:20251231T170037Z
LAST-MODIFIED:20251231T170037Z
UID:14794-1771150800-1771155000@stonehousechurch.ca
SUMMARY:Stonehouse Worships
DESCRIPTION:
URL:https://stonehousechurch.ca/event/stonehouse-worships-24
LOCATION:Pat Porter Active Living Centre\, 10 Chrysler Gate\, Steinbach\, MB\, R5G 2E6\, Canada
END:VEVENT
BEGIN:VEVENT
DTSTART;TZID=America/Winnipeg:20260217T190000
DTEND;TZID=America/Winnipeg:20260217T203000
DTSTAMP:20260424T034027
CREATED:20260131T161839Z
LAST-MODIFIED:20260131T161839Z
UID:14838-1771354800-1771360200@stonehousechurch.ca
SUMMARY:1 Peter Biblestudy with Dr. David Johnson
DESCRIPTION:Join us for a bible study on 1 Peter. This will be a 6-week series. When you sign up\, a study guide will be sent to your inbox. \nFeb 3\, 10\, 17\, 24\, Mar 3\, 10\, 7-8:30pm. Location: Crossview Church – Room 113 on Loewen (East side of building\, right across the hall from the offices). Feel free to invite friends\, family\, and neighbours!
URL:https://stonehousechurch.ca/event/1-peter-biblestudy-with-dr-david-johnson
LOCATION:Crossview Church\, 345 loewen Blvd\, Steinbach\, MB\, Canada
END:VEVENT
BEGIN:VEVENT
DTSTART;TZID=America/Winnipeg:20260222T102000
DTEND;TZID=America/Winnipeg:20260222T113000
DTSTAMP:20260424T034027
CREATED:20251231T170120Z
LAST-MODIFIED:20251231T170120Z
UID:14796-1771755600-1771759800@stonehousechurch.ca
SUMMARY:Stonehouse Worships
DESCRIPTION:
URL:https://stonehousechurch.ca/event/stonehouse-worships-25
LOCATION:Pat Porter Active Living Centre\, 10 Chrysler Gate\, Steinbach\, MB\, R5G 2E6\, Canada
END:VEVENT
BEGIN:VEVENT
DTSTART;TZID=America/Winnipeg:20260224T190000
DTEND;TZID=America/Winnipeg:20260224T203000
DTSTAMP:20260424T034027
CREATED:20260131T162016Z
LAST-MODIFIED:20260131T162016Z
UID:14840-1771959600-1771965000@stonehousechurch.ca
SUMMARY:1 Peter Bible study with Dr. David Johnson
DESCRIPTION:Join us for a bible study on 1 Peter. This will be a 6-week series. When you sign up\, a study guide will be sent to your inbox. \nFeb 3\, 10\, 17\, 24\, Mar 3\, 10\, 7-8:30pm. Location: Crossview Church – Room 113 on Loewen (East side of building\, right across the hall from the offices). Feel free to invite friends\, family\, and neighbours!
URL:https://stonehousechurch.ca/event/1-peter-bible-study-with-dr-david-johnson-3
LOCATION:Crossview Church\, 345 loewen Blvd\, Steinbach\, MB\, Canada
END:VEVENT
BEGIN:VEVENT
DTSTART;TZID=America/Winnipeg:20260301T102000
DTEND;TZID=America/Winnipeg:20260301T113000
DTSTAMP:20260424T034027
CREATED:20251231T170201Z
LAST-MODIFIED:20251231T170201Z
UID:14798-1772360400-1772364600@stonehousechurch.ca
SUMMARY:Stonehouse Worships
DESCRIPTION:
URL:https://stonehousechurch.ca/event/stonehouse-worships-26
LOCATION:Pat Porter Active Living Centre\, 10 Chrysler Gate\, Steinbach\, MB\, R5G 2E6\, Canada
END:VEVENT
BEGIN:VEVENT
DTSTART;TZID=America/Winnipeg:20260303T190000
DTEND;TZID=America/Winnipeg:20260303T203000
DTSTAMP:20260424T034027
CREATED:20260131T162121Z
LAST-MODIFIED:20260131T162121Z
UID:14842-1772564400-1772569800@stonehousechurch.ca
SUMMARY:1 Peter Bible study with Dr. David Johnson
DESCRIPTION:Join us for a bible study on 1 Peter. This will be a 6-week series. When you sign up\, a study guide will be sent to your inbox. \nFeb 3\, 10\, 17\, 24\, Mar 3\, 10\, 7-8:30pm. Location: Crossview Church – Room 113 on Loewen (East side of building\, right across the hall from the offices). Feel free to invite friends\, family\, and neighbours!
URL:https://stonehousechurch.ca/event/1-peter-bible-study-with-dr-david-johnson-4
LOCATION:Crossview Church\, 345 loewen Blvd\, Steinbach\, MB\, Canada
END:VEVENT
BEGIN:VEVENT
DTSTART;TZID=America/Winnipeg:20260308T102000
DTEND;TZID=America/Winnipeg:20260308T113000
DTSTAMP:20260424T034027
CREATED:20251231T170240Z
LAST-MODIFIED:20251231T170240Z
UID:14800-1772965200-1772969400@stonehousechurch.ca
SUMMARY:Stonehouse Worships
DESCRIPTION:
URL:https://stonehousechurch.ca/event/stonehouse-worships-27
LOCATION:Pat Porter Active Living Centre\, 10 Chrysler Gate\, Steinbach\, MB\, R5G 2E6\, Canada
END:VEVENT
BEGIN:VEVENT
DTSTART;TZID=America/Winnipeg:20260315T102000
DTEND;TZID=America/Winnipeg:20260315T113000
DTSTAMP:20260424T034027
CREATED:20251231T170405Z
LAST-MODIFIED:20251231T170405Z
UID:14804-1773570000-1773574200@stonehousechurch.ca
SUMMARY:Stonehouse Worships
DESCRIPTION:
URL:https://stonehousechurch.ca/event/stonehouse-worships-29
LOCATION:Pat Porter Active Living Centre\, 10 Chrysler Gate\, Steinbach\, MB\, R5G 2E6\, Canada
END:VEVENT
BEGIN:VEVENT
DTSTART;TZID=America/Winnipeg:20260322T103000
DTEND;TZID=America/Winnipeg:20260322T113000
DTSTAMP:20260424T034027
CREATED:20251231T170441Z
LAST-MODIFIED:20251231T170441Z
UID:14806-1774175400-1774179000@stonehousechurch.ca
SUMMARY:Stonehouse Worships
DESCRIPTION:
URL:https://stonehousechurch.ca/event/stonehouse-worships-30
LOCATION:Pat Porter Active Living Centre\, 10 Chrysler Gate\, Steinbach\, MB\, R5G 2E6\, Canada
END:VEVENT
BEGIN:VEVENT
DTSTART;TZID=America/Winnipeg:20260329T102000
DTEND;TZID=America/Winnipeg:20260329T113000
DTSTAMP:20260424T034027
CREATED:20251231T171001Z
LAST-MODIFIED:20251231T171001Z
UID:14812-1774779600-1774783800@stonehousechurch.ca
SUMMARY:Stonehouse Worships
DESCRIPTION:
URL:https://stonehousechurch.ca/event/stonehouse-worships-28
LOCATION:Pat Porter Active Living Centre\, 10 Chrysler Gate\, Steinbach\, MB\, R5G 2E6\, Canada
END:VEVENT
BEGIN:VEVENT
DTSTART;TZID=America/Winnipeg:20260403T103000
DTEND;TZID=America/Winnipeg:20260403T113000
DTSTAMP:20260424T034027
CREATED:20251231T170516Z
LAST-MODIFIED:20260402T232146Z
UID:14808-1775212200-1775215800@stonehousechurch.ca
SUMMARY:Good Friday service
DESCRIPTION:
URL:https://stonehousechurch.ca/event/stonehouse-worships-31
LOCATION:Pat Porter Active Living Centre\, 10 Chrysler Gate\, Steinbach\, MB\, R5G 2E6\, Canada
END:VEVENT
BEGIN:VEVENT
DTSTART;TZID=America/Winnipeg:20260405T103000
DTEND;TZID=America/Winnipeg:20260405T113000
DTSTAMP:20260424T034027
CREATED:20251231T171114Z
LAST-MODIFIED:20251231T171114Z
UID:14814-1775385000-1775388600@stonehousechurch.ca
SUMMARY:Easter Sunday at Stonehouse
DESCRIPTION:
URL:https://stonehousechurch.ca/event/easter-sunday-at-stonehouse
LOCATION:Pat Porter Active Living Centre\, 10 Chrysler Gate\, Steinbach\, MB\, R5G 2E6\, Canada
END:VEVENT
BEGIN:VEVENT
DTSTART;TZID=America/Winnipeg:20260412T102000
DTEND;TZID=America/Winnipeg:20260412T113000
DTSTAMP:20260424T034027
CREATED:20260409T184606Z
LAST-MODIFIED:20260409T184606Z
UID:14847-1775989200-1775993400@stonehousechurch.ca
SUMMARY:Stonehouse Worships
DESCRIPTION:
URL:https://stonehousechurch.ca/event/stonehouse-worships-32
LOCATION:Pat Porter Active Living Centre\, 10 Chrysler Gate\, Steinbach\, MB\, R5G 2E6\, Canada
END:VEVENT
BEGIN:VEVENT
DTSTART;VALUE=DATE:20260415
DTEND;VALUE=DATE:20260416
DTSTAMP:20260424T034027
CREATED:20260409T190929Z
LAST-MODIFIED:20260409T190929Z
UID:14875-1776211200-1776297599@stonehousechurch.ca
SUMMARY:No Stonehouse Youth
DESCRIPTION:
URL:https://stonehousechurch.ca/event/no-stonehouse-youth
END:VEVENT
BEGIN:VEVENT
DTSTART;TZID=America/Winnipeg:20260419T102000
DTEND;TZID=America/Winnipeg:20260419T113000
DTSTAMP:20260424T034027
CREATED:20260409T184649Z
LAST-MODIFIED:20260409T185333Z
UID:14849-1776594000-1776598200@stonehousechurch.ca
SUMMARY:Stonehouse Worships
DESCRIPTION:
URL:https://stonehousechurch.ca/event/stonehouse-worships-33
LOCATION:Pat Porter Active Living Centre\, 10 Chrysler Gate\, Steinbach\, MB\, R5G 2E6\, Canada
END:VEVENT
BEGIN:VEVENT
DTSTART;TZID=America/Winnipeg:20260422T190000
DTEND;TZID=America/Winnipeg:20260422T203000
DTSTAMP:20260424T034027
CREATED:20260409T191021Z
LAST-MODIFIED:20260409T191146Z
UID:14877-1776884400-1776889800@stonehousechurch.ca
SUMMARY:Stonehouse Youth at the Friesens'
DESCRIPTION:Email us for the address if needed.
URL:https://stonehousechurch.ca/event/stonehouse-youth
END:VEVENT
BEGIN:VEVENT
DTSTART;TZID=America/Winnipeg:20260426T102000
DTEND;TZID=America/Winnipeg:20260426T113000
DTSTAMP:20260424T034027
CREATED:20260409T184722Z
LAST-MODIFIED:20260423T204417Z
UID:14851-1777198800-1777203000@stonehousechurch.ca
SUMMARY:Stonehouse Worships - Doughnut Sunday!
DESCRIPTION:
URL:https://stonehousechurch.ca/event/stonehouse-worships-34
LOCATION:Pat Porter Active Living Centre\, 10 Chrysler Gate\, Steinbach\, MB\, R5G 2E6\, Canada
ATTACH;FMTTYPE=image/png:https://stonehousechurch.ca/wp-content/uploads/2026/04/Doughnt-Suy-1-e1776977028989.png
END:VEVENT
BEGIN:VEVENT
DTSTART;TZID=America/Winnipeg:20260429T190000
DTEND;TZID=America/Winnipeg:20260429T203000
DTSTAMP:20260424T034027
CREATED:20260409T191236Z
LAST-MODIFIED:20260409T191236Z
UID:14881-1777489200-1777494600@stonehousechurch.ca
SUMMARY:Stonehouse Youth
DESCRIPTION:
URL:https://stonehousechurch.ca/event/stonehouse-youth-2
LOCATION:Clearspring Middle School\, 1 Brighton Ln\, Steinbach\, mb\, R5G 0Y2\, Canada
END:VEVENT
BEGIN:VEVENT
DTSTART;TZID=America/Winnipeg:20260502T090000
DTEND;TZID=America/Winnipeg:20260502T120000
DTSTAMP:20260424T034027
CREATED:20260423T193025Z
LAST-MODIFIED:20260423T203854Z
UID:14893-1777712400-1777723200@stonehousechurch.ca
SUMMARY:Pick Up and Walk
DESCRIPTION:Join our Stonehouse team at the TG Smith Area to help clean up the city alongside of many other local groups and churches. \nDress for the weather. Wear rubber boots and gloves if you can.  \n A thank you lunch will be provided for all volunteers after wards at the TG Smith Arena.
URL:https://stonehousechurch.ca/event/pick-up-and-walk
ATTACH;FMTTYPE=image/png:https://stonehousechurch.ca/wp-content/uploads/2026/04/IMG_2123-e1776976724179.png
END:VEVENT
BEGIN:VEVENT
DTSTART;TZID=America/Winnipeg:20260503T102000
DTEND;TZID=America/Winnipeg:20260503T113000
DTSTAMP:20260424T034027
CREATED:20260409T184809Z
LAST-MODIFIED:20260409T185246Z
UID:14853-1777803600-1777807800@stonehousechurch.ca
SUMMARY:Stonehouse Worships
DESCRIPTION:
URL:https://stonehousechurch.ca/event/stonehouse-worships-35
LOCATION:Pat Porter Active Living Centre\, 10 Chrysler Gate\, Steinbach\, MB\, R5G 2E6\, Canada
END:VEVENT
BEGIN:VEVENT
DTSTART;TZID=America/Winnipeg:20260506T190000
DTEND;TZID=America/Winnipeg:20260506T203000
DTSTAMP:20260424T034027
CREATED:20260409T191328Z
LAST-MODIFIED:20260409T191328Z
UID:14883-1778094000-1778099400@stonehousechurch.ca
SUMMARY:Stonehouse Youth
DESCRIPTION:
URL:https://stonehousechurch.ca/event/stonehouse-youth-8
LOCATION:Clearspring Middle School\, 1 Brighton Ln\, Steinbach\, mb\, R5G 0Y2\, Canada
END:VEVENT
BEGIN:VEVENT
DTSTART;TZID=America/Winnipeg:20260510T102000
DTEND;TZID=America/Winnipeg:20260510T113000
DTSTAMP:20260424T034027
CREATED:20260409T184839Z
LAST-MODIFIED:20260409T185221Z
UID:14855-1778408400-1778412600@stonehousechurch.ca
SUMMARY:Stonehouse Worships
DESCRIPTION:
URL:https://stonehousechurch.ca/event/stonehouse-worships-36
LOCATION:Pat Porter Active Living Centre\, 10 Chrysler Gate\, Steinbach\, MB\, R5G 2E6\, Canada
END:VEVENT
BEGIN:VEVENT
DTSTART;TZID=America/Winnipeg:20260513T190000
DTEND;TZID=America/Winnipeg:20260513T203000
DTSTAMP:20260424T034027
CREATED:20260409T191519Z
LAST-MODIFIED:20260409T191519Z
UID:14886-1778698800-1778704200@stonehousechurch.ca
SUMMARY:Stonehouse High School Youth
DESCRIPTION:
URL:https://stonehousechurch.ca/event/stonehouse-high-school-youth
LOCATION:Eric’s place\, 96 Everoak Place\, Steinbach\, MB\, R5G2C4\, Canada
END:VEVENT
BEGIN:VEVENT
DTSTART;VALUE=DATE:20260517
DTEND;VALUE=DATE:20260518
DTSTAMP:20260424T034027
CREATED:20260409T185726Z
LAST-MODIFIED:20260409T185726Z
UID:14861-1778976000-1779062399@stonehousechurch.ca
SUMMARY:No Church
DESCRIPTION:A sermon will be posted online at https://www.youtube.com/feed/subscriptions/UCDFC7AvwMvTyzFA_z8p23pw \nPlease join us in person next week at the Pat Porter ALC!
URL:https://stonehousechurch.ca/event/no-church-2
END:VEVENT
BEGIN:VEVENT
DTSTART;TZID=America/Winnipeg:20260520T190000
DTEND;TZID=America/Winnipeg:20260520T203000
DTSTAMP:20260424T034027
CREATED:20260409T191625Z
LAST-MODIFIED:20260409T191625Z
UID:14888-1779303600-1779309000@stonehousechurch.ca
SUMMARY:Stonehouse Youth
DESCRIPTION:
URL:https://stonehousechurch.ca/event/stonehouse-youth-9
LOCATION:Clearspring Middle School\, 1 Brighton Ln\, Steinbach\, mb\, R5G 0Y2\, Canada
END:VEVENT
END:VCALENDAR